BEGIN:VCALENDAR
VERSION:2.0
PRODID:-//Health Planning Council of Northeast Florida - ECPv6.15.18//NONSGML v1.0//EN
CALSCALE:GREGORIAN
METHOD:PUBLISH
X-ORIGINAL-URL:https://hpcnef.org
X-WR-CALDESC:Events for Health Planning Council of Northeast Florida
REFRESH-INTERVAL;VALUE=DURATION:PT1H
X-Robots-Tag:noindex
X-PUBLISHED-TTL:PT1H
BEGIN:VTIMEZONE
TZID:America/New_York
BEGIN:DAYLIGHT
TZOFFSETFROM:-0500
TZOFFSETTO:-0400
TZNAME:EDT
DTSTART:20220313T070000
END:DAYLIGHT
BEGIN:STANDARD
TZOFFSETFROM:-0400
TZOFFSETTO:-0500
TZNAME:EST
DTSTART:20221106T060000
END:STANDARD
BEGIN:DAYLIGHT
TZOFFSETFROM:-0500
TZOFFSETTO:-0400
TZNAME:EDT
DTSTART:20230312T070000
END:DAYLIGHT
BEGIN:STANDARD
TZOFFSETFROM:-0400
TZOFFSETTO:-0500
TZNAME:EST
DTSTART:20231105T060000
END:STANDARD
BEGIN:DAYLIGHT
TZOFFSETFROM:-0500
TZOFFSETTO:-0400
TZNAME:EDT
DTSTART:20240310T070000
END:DAYLIGHT
BEGIN:STANDARD
TZOFFSETFROM:-0400
TZOFFSETTO:-0500
TZNAME:EST
DTSTART:20241103T060000
END:STANDARD
END:VTIMEZONE
BEGIN:VEVENT
DTSTART;TZID=America/New_York:20230221T090000
DTEND;TZID=America/New_York:20230221T100000
DTSTAMP:20260424T192508
CREATED:20230118T221915Z
LAST-MODIFIED:20230412T164733Z
UID:5980-1676970000-1676973600@hpcnef.org
SUMMARY:Northeast Florida Cancer Control Collaborative Quarterly Meeting
DESCRIPTION:Save the date for our next NEFCCC quarterly (virtual) meeting on Tuesday\, February 21\, 2023 at 9:00 AM. We hope you are able to join us for updates on programs\, activities\, and resources at the national\, state\, and regional levels. \nPlease email Kim Millrood at ki**********@****ef.org for the Zoom password. \nFor more information on the program\, visit our NEFCCC page. \n  \nMeeting ID: 862 8517 3825 \n  \nDial by your location \n\n+1 305 224 1968 US\n+1 301 715 8592 US (Washington DC)\n+1 309 205 3325 US
URL:https://hpcnef.org/event/nefccc20230221/
CATEGORIES:Northeast Florida Cancer Partnership
END:VEVENT
END:VCALENDAR